BEGIN:VCALENDAR
VERSION:2.0
CALSCALE:GREGORIAN
BEGIN:VEVENT
URL:https://www.learndesk.us/class/5541711906340864/lesson/955ec2892d64bdd52152eecd49f2cb24?ref=outlook-calendar
SUMMARY:CupertinoSwitch
DTSTART;TZID=America/Los_Angeles:20260425T190000
DTEND;TZID=America/Los_Angeles:20260425T200000
LOCATION:https://www.learndesk.us/class/5541711906340864/lesson/955ec2892d64bdd52152eecd49f2cb24?ref=outlook-calendar
DESCRIPTION: An iOS-style switch. Used to toggle the on/off state of a single setting.

https://www.learndesk.us/class/5541711906340864/lesson/955ec2892d64bdd52152eecd49f2cb24?ref=outlook-calendar
STATUS:CONFIRMED
SEQUENCE:3
BEGIN:VALARM
TRIGGER:-PT10M
DESCRIPTION:Class Reminder
ACTION:DISPLAY
END:VALARM
END:VEVENT
END:VCALENDAR