BEGIN:VCALENDAR
VERSION:2.0
CALSCALE:GREGORIAN
BEGIN:VEVENT
URL:https://www.learndesk.us/class/5541711906340864/lesson/9120416d9b0a14e2913a0451242eeac1?ref=outlook-calendar
SUMMARY:SimpleDialog
DTSTART;TZID=America/Los_Angeles:20260425T190000
DTEND;TZID=America/Los_Angeles:20260425T200000
LOCATION:https://www.learndesk.us/class/5541711906340864/lesson/9120416d9b0a14e2913a0451242eeac1?ref=outlook-calendar
DESCRIPTION: Simple dialogs can provide additional details or actions about a list item. For example, they can display avatars icons clarifying subtext or orthogonal actions (such as adding an account).

https://www.learndesk.us/class/5541711906340864/lesson/9120416d9b0a14e2913a0451242eeac1?ref=outlook-calendar
STATUS:CONFIRMED
SEQUENCE:3
BEGIN:VALARM
TRIGGER:-PT10M
DESCRIPTION:Class Reminder
ACTION:DISPLAY
END:VALARM
END:VEVENT
END:VCALENDAR