BEGIN:VCALENDAR
VERSION:2.0
CALSCALE:GREGORIAN
BEGIN:VEVENT
URL:https://www.learndesk.us/class/5541711906340864/lesson/8b46a063a2bff268c6dc8fb3430471f6?ref=outlook-calendar
SUMMARY:SliverAppBar
DTSTART;TZID=America/Los_Angeles:20260425T190000
DTEND;TZID=America/Los_Angeles:20260425T200000
LOCATION:https://www.learndesk.us/class/5541711906340864/lesson/8b46a063a2bff268c6dc8fb3430471f6?ref=outlook-calendar
DESCRIPTION: A material design app bar that integrates with a CustomScrollView.

https://www.learndesk.us/class/5541711906340864/lesson/8b46a063a2bff268c6dc8fb3430471f6?ref=outlook-calendar
STATUS:CONFIRMED
SEQUENCE:3
BEGIN:VALARM
TRIGGER:-PT10M
DESCRIPTION:Class Reminder
ACTION:DISPLAY
END:VALARM
END:VEVENT
END:VCALENDAR