BEGIN:VCALENDAR
VERSION:2.0
CALSCALE:GREGORIAN
BEGIN:VEVENT
URL:https://www.learndesk.us/class/5541711906340864/lesson/85f4cc951435b7cab5e96c163c2dd3cc?ref=outlook-calendar
SUMMARY:Setup On Mac Android
DTSTART;TZID=America/Los_Angeles:20260425T190000
DTEND;TZID=America/Los_Angeles:20260425T200000
LOCATION:https://www.learndesk.us/class/5541711906340864/lesson/85f4cc951435b7cab5e96c163c2dd3cc?ref=outlook-calendar
DESCRIPTION: You will learn about setting up Flutter projects on Mac for Android development.

https://www.learndesk.us/class/5541711906340864/lesson/85f4cc951435b7cab5e96c163c2dd3cc?ref=outlook-calendar
STATUS:CONFIRMED
SEQUENCE:3
BEGIN:VALARM
TRIGGER:-PT10M
DESCRIPTION:Class Reminder
ACTION:DISPLAY
END:VALARM
END:VEVENT
END:VCALENDAR