BEGIN:VCALENDAR
VERSION:2.0
CALSCALE:GREGORIAN
BEGIN:VEVENT
URL:https://www.learndesk.us/class/5541711906340864/lesson/821e25bf1a31fc941825cbc9011a1e32?ref=outlook-calendar
SUMMARY:CupertinoSegmentedControl
DTSTART;TZID=America/Los_Angeles:20260425T190000
DTEND;TZID=America/Los_Angeles:20260425T200000
LOCATION:https://www.learndesk.us/class/5541711906340864/lesson/821e25bf1a31fc941825cbc9011a1e32?ref=outlook-calendar
DESCRIPTION: An iOS-style segmented control. Used to select mutually exclusive options in a horizontal list.

https://www.learndesk.us/class/5541711906340864/lesson/821e25bf1a31fc941825cbc9011a1e32?ref=outlook-calendar
STATUS:CONFIRMED
SEQUENCE:3
BEGIN:VALARM
TRIGGER:-PT10M
DESCRIPTION:Class Reminder
ACTION:DISPLAY
END:VALARM
END:VEVENT
END:VCALENDAR