BEGIN:VCALENDAR
VERSION:2.0
CALSCALE:GREGORIAN
BEGIN:VEVENT
URL:https://www.learndesk.us/class/5541711906340864/lesson/7bc19426f91aab333f4456deb183cb24?ref=outlook-calendar
SUMMARY:Stateless vs Stateful Widgets
DTSTART;TZID=America/Los_Angeles:20260425T190000
DTEND;TZID=America/Los_Angeles:20260425T200000
LOCATION:https://www.learndesk.us/class/5541711906340864/lesson/7bc19426f91aab333f4456deb183cb24?ref=outlook-calendar
DESCRIPTION: Stateful and stateless widgets. A widget is either stateful or stateless. If a widget can change—when a user interacts with it, for example—it's stateful. A widget's state is stored in a State object, separating the widget's state from its appearance.

https://www.learndesk.us/class/5541711906340864/lesson/7bc19426f91aab333f4456deb183cb24?ref=outlook-calendar
STATUS:CONFIRMED
SEQUENCE:3
BEGIN:VALARM
TRIGGER:-PT10M
DESCRIPTION:Class Reminder
ACTION:DISPLAY
END:VALARM
END:VEVENT
END:VCALENDAR