BEGIN:VCALENDAR
VERSION:2.0
CALSCALE:GREGORIAN
BEGIN:VEVENT
URL:https://www.learndesk.us/class/5541711906340864/lesson/7a1577eed80fd29483f0e5639afac83a?ref=outlook-calendar
SUMMARY:CupertinoPageScaffold
DTSTART;TZID=America/Los_Angeles:20260425T190000
DTEND;TZID=America/Los_Angeles:20260425T200000
LOCATION:https://www.learndesk.us/class/5541711906340864/lesson/7a1577eed80fd29483f0e5639afac83a?ref=outlook-calendar
DESCRIPTION: Basic iOS style page layout structure. Positions a navigation bar and content on a background.

https://www.learndesk.us/class/5541711906340864/lesson/7a1577eed80fd29483f0e5639afac83a?ref=outlook-calendar
STATUS:CONFIRMED
SEQUENCE:3
BEGIN:VALARM
TRIGGER:-PT10M
DESCRIPTION:Class Reminder
ACTION:DISPLAY
END:VALARM
END:VEVENT
END:VCALENDAR