BEGIN:VCALENDAR
VERSION:2.0
CALSCALE:GREGORIAN
BEGIN:VEVENT
URL:https://www.learndesk.us/class/5541711906340864/lesson/78cd6c3c401014bb6787400f2a901f23?ref=outlook-calendar
SUMMARY:Staggered Animation
DTSTART;TZID=America/Los_Angeles:20260425T190000
DTEND;TZID=America/Los_Angeles:20260425T200000
LOCATION:https://www.learndesk.us/class/5541711906340864/lesson/78cd6c3c401014bb6787400f2a901f23?ref=outlook-calendar
DESCRIPTION: Animations that are broken into smaller motions, where some of the motion is delayed. The smaller animations may be sequential, or may partially or completely overlap.

https://www.learndesk.us/class/5541711906340864/lesson/78cd6c3c401014bb6787400f2a901f23?ref=outlook-calendar
STATUS:CONFIRMED
SEQUENCE:3
BEGIN:VALARM
TRIGGER:-PT10M
DESCRIPTION:Class Reminder
ACTION:DISPLAY
END:VALARM
END:VEVENT
END:VCALENDAR