BEGIN:VCALENDAR
VERSION:2.0
CALSCALE:GREGORIAN
BEGIN:VEVENT
URL:https://www.learndesk.us/class/5541711906340864/lesson/71bfeaece109d8878ab86d3f7d105b45?ref=outlook-calendar
SUMMARY:CircularProgressIndicator
DTSTART;TZID=America/Los_Angeles:20260425T190000
DTEND;TZID=America/Los_Angeles:20260425T200000
LOCATION:https://www.learndesk.us/class/5541711906340864/lesson/71bfeaece109d8878ab86d3f7d105b45?ref=outlook-calendar
DESCRIPTION: A material design circular progress indicator, which spins to indicate that the application is busy.

https://www.learndesk.us/class/5541711906340864/lesson/71bfeaece109d8878ab86d3f7d105b45?ref=outlook-calendar
STATUS:CONFIRMED
SEQUENCE:3
BEGIN:VALARM
TRIGGER:-PT10M
DESCRIPTION:Class Reminder
ACTION:DISPLAY
END:VALARM
END:VEVENT
END:VCALENDAR