BEGIN:VCALENDAR
VERSION:2.0
CALSCALE:GREGORIAN
BEGIN:VEVENT
URL:https://www.learndesk.us/class/5541711906340864/lesson/6eb5bd4f01979be8ad6a3ad74c083b64?ref=outlook-calendar
SUMMARY:Pan
DTSTART;TZID=America/Los_Angeles:20260425T190000
DTEND;TZID=America/Los_Angeles:20260425T200000
LOCATION:https://www.learndesk.us/class/5541711906340864/lesson/6eb5bd4f01979be8ad6a3ad74c083b64?ref=outlook-calendar
DESCRIPTION: Pan

onPanStart A pointer has contacted the screen and might begin to move horizontally or vertically. This callback causes a crash if onHorizontalDragStart or onVerticalDragStart is set.

onPanUpdateA pointer that is in contact with the screen and is moving in the vertical or horizontal direction. This callback causes a crash if onHorizontalDragUpdate or onVerticalDragUpdate is set.

onPanEnd A pointer that was previously in contact with screen is no longer in contact with the screen and is moving at a specific velocity when it stopped contacting the screen. This callback causes a crash if onHorizontalDragEnd or onVerticalDragEnd is set.

https://www.learndesk.us/class/5541711906340864/lesson/6eb5bd4f01979be8ad6a3ad74c083b64?ref=outlook-calendar
STATUS:CONFIRMED
SEQUENCE:3
BEGIN:VALARM
TRIGGER:-PT10M
DESCRIPTION:Class Reminder
ACTION:DISPLAY
END:VALARM
END:VEVENT
END:VCALENDAR