BEGIN:VCALENDAR
VERSION:2.0
CALSCALE:GREGORIAN
BEGIN:VEVENT
URL:https://www.learndesk.us/class/5541711906340864/lesson/61f3665518e06d45f2c11fc62ecbc64a?ref=outlook-calendar
SUMMARY:Pointers
DTSTART;TZID=America/Los_Angeles:20260425T190000
DTEND;TZID=America/Los_Angeles:20260425T200000
LOCATION:https://www.learndesk.us/class/5541711906340864/lesson/61f3665518e06d45f2c11fc62ecbc64a?ref=outlook-calendar
DESCRIPTION: Pointers represent raw data about the user’s interaction with the device’s screen. There are four types of pointer events:

PointerDownEvent The pointer has contacted the screen at a particular location.

PointerMoveEvent The pointer has moved from one location on the screen to another.

PointerUpEvent The pointer has stopped contacting the screen.

PointerCancelEvent Input from this pointer is no longer directed towards this app.

https://www.learndesk.us/class/5541711906340864/lesson/61f3665518e06d45f2c11fc62ecbc64a?ref=outlook-calendar
STATUS:CONFIRMED
SEQUENCE:3
BEGIN:VALARM
TRIGGER:-PT10M
DESCRIPTION:Class Reminder
ACTION:DISPLAY
END:VALARM
END:VEVENT
END:VCALENDAR