BEGIN:VCALENDAR
VERSION:2.0
CALSCALE:GREGORIAN
BEGIN:VEVENT
URL:https://www.learndesk.us/class/5541711906340864/lesson/5ac2cd0b8d5d8a2332b085f5600b2a40?ref=outlook-calendar
SUMMARY:Icons
DTSTART;TZID=America/Los_Angeles:20260425T190000
DTEND;TZID=America/Los_Angeles:20260425T200000
LOCATION:https://www.learndesk.us/class/5541711906340864/lesson/5ac2cd0b8d5d8a2332b085f5600b2a40?ref=outlook-calendar
DESCRIPTION: A Material Design icon.

https://www.learndesk.us/class/5541711906340864/lesson/5ac2cd0b8d5d8a2332b085f5600b2a40?ref=outlook-calendar
STATUS:CONFIRMED
SEQUENCE:3
BEGIN:VALARM
TRIGGER:-PT10M
DESCRIPTION:Class Reminder
ACTION:DISPLAY
END:VALARM
END:VEVENT
END:VCALENDAR