BEGIN:VCALENDAR
VERSION:2.0
CALSCALE:GREGORIAN
BEGIN:VEVENT
URL:https://www.learndesk.us/class/5541711906340864/lesson/49f0534e8a155988c0b2710fdc4f12a3?ref=outlook-calendar
SUMMARY:Remove Debug Badge
DTSTART;TZID=America/Los_Angeles:20260425T190000
DTEND;TZID=America/Los_Angeles:20260425T200000
LOCATION:https://www.learndesk.us/class/5541711906340864/lesson/49f0534e8a155988c0b2710fdc4f12a3?ref=outlook-calendar
DESCRIPTION: Remove the debug banner from your applications.

https://www.learndesk.us/class/5541711906340864/lesson/49f0534e8a155988c0b2710fdc4f12a3?ref=outlook-calendar
STATUS:CONFIRMED
SEQUENCE:3
BEGIN:VALARM
TRIGGER:-PT10M
DESCRIPTION:Class Reminder
ACTION:DISPLAY
END:VALARM
END:VEVENT
END:VCALENDAR