BEGIN:VCALENDAR
VERSION:2.0
CALSCALE:GREGORIAN
BEGIN:VEVENT
URL:https://www.learndesk.us/class/5541711906340864/lesson/476304a90ae6501e33fe882414684757?ref=outlook-calendar
SUMMARY:Animating a widget across screens
DTSTART;TZID=America/Los_Angeles:20260425T190000
DTEND;TZID=America/Los_Angeles:20260425T200000
LOCATION:https://www.learndesk.us/class/5541711906340864/lesson/476304a90ae6501e33fe882414684757?ref=outlook-calendar
DESCRIPTION: It’s often helpful to guide users through our apps as they navigate from screen to screen. A common technique to lead users through an app is to animate a Widget from one screen to the next.

https://www.learndesk.us/class/5541711906340864/lesson/476304a90ae6501e33fe882414684757?ref=outlook-calendar
STATUS:CONFIRMED
SEQUENCE:3
BEGIN:VALARM
TRIGGER:-PT10M
DESCRIPTION:Class Reminder
ACTION:DISPLAY
END:VALARM
END:VEVENT
END:VCALENDAR