BEGIN:VCALENDAR
VERSION:2.0
CALSCALE:GREGORIAN
BEGIN:VEVENT
URL:https://www.learndesk.us/class/5541711906340864/lesson/4253ec1d2a153e41965b09a0bbd98498?ref=outlook-calendar
SUMMARY:CupertinoActionSheet
DTSTART;TZID=America/Los_Angeles:20260425T190000
DTEND;TZID=America/Los_Angeles:20260425T200000
LOCATION:https://www.learndesk.us/class/5541711906340864/lesson/4253ec1d2a153e41965b09a0bbd98498?ref=outlook-calendar
DESCRIPTION: An iOS-style modal bottom action sheet to choose an option among many.

https://www.learndesk.us/class/5541711906340864/lesson/4253ec1d2a153e41965b09a0bbd98498?ref=outlook-calendar
STATUS:CONFIRMED
SEQUENCE:3
BEGIN:VALARM
TRIGGER:-PT10M
DESCRIPTION:Class Reminder
ACTION:DISPLAY
END:VALARM
END:VEVENT
END:VCALENDAR