BEGIN:VCALENDAR
VERSION:2.0
CALSCALE:GREGORIAN
BEGIN:VEVENT
URL:https://www.learndesk.us/class/5541711906340864/lesson/41a4a3cdebc644f8bf2a99c7af4ca813?ref=outlook-calendar
SUMMARY:Nesting rows and columns
DTSTART;TZID=America/Los_Angeles:20260425T190000
DTEND;TZID=America/Los_Angeles:20260425T200000
LOCATION:https://www.learndesk.us/class/5541711906340864/lesson/41a4a3cdebc644f8bf2a99c7af4ca813?ref=outlook-calendar
DESCRIPTION: The layout framework allows you to nest rows and columns inside of rows and columns as deeply as you need.

https://www.learndesk.us/class/5541711906340864/lesson/41a4a3cdebc644f8bf2a99c7af4ca813?ref=outlook-calendar
STATUS:CONFIRMED
SEQUENCE:3
BEGIN:VALARM
TRIGGER:-PT10M
DESCRIPTION:Class Reminder
ACTION:DISPLAY
END:VALARM
END:VEVENT
END:VCALENDAR