BEGIN:VCALENDAR
VERSION:2.0
CALSCALE:GREGORIAN
BEGIN:VEVENT
URL:https://www.learndesk.us/class/5541711906340864/lesson/3ed7c05594a3c1f73815af9880134ce8?ref=outlook-calendar
SUMMARY:Scaffold
DTSTART;TZID=America/Los_Angeles:20260425T190000
DTEND;TZID=America/Los_Angeles:20260425T200000
LOCATION:https://www.learndesk.us/class/5541711906340864/lesson/3ed7c05594a3c1f73815af9880134ce8?ref=outlook-calendar
DESCRIPTION: Implements the basic Material Design visual layout structure. This class provides APIs for showing drawers, snack bars, and bottom sheets.

https://www.learndesk.us/class/5541711906340864/lesson/3ed7c05594a3c1f73815af9880134ce8?ref=outlook-calendar
STATUS:CONFIRMED
SEQUENCE:3
BEGIN:VALARM
TRIGGER:-PT10M
DESCRIPTION:Class Reminder
ACTION:DISPLAY
END:VALARM
END:VEVENT
END:VCALENDAR