BEGIN:VCALENDAR
VERSION:2.0
CALSCALE:GREGORIAN
BEGIN:VEVENT
URL:https://www.learndesk.us/class/5541711906340864/lesson/3b0756635ff90571288cec0e27642bd8?ref=outlook-calendar
SUMMARY:Making authenticated requests using HTTP Headers
DTSTART;TZID=America/Los_Angeles:20260425T190000
DTEND;TZID=America/Los_Angeles:20260425T200000
LOCATION:https://www.learndesk.us/class/5541711906340864/lesson/3b0756635ff90571288cec0e27642bd8?ref=outlook-calendar
DESCRIPTION: In order to fetch data from many web services, you need to provide authorization. There are many ways to do this, but perhaps the most common uses the Authorization HTTP header.

https://www.learndesk.us/class/5541711906340864/lesson/3b0756635ff90571288cec0e27642bd8?ref=outlook-calendar
STATUS:CONFIRMED
SEQUENCE:3
BEGIN:VALARM
TRIGGER:-PT10M
DESCRIPTION:Class Reminder
ACTION:DISPLAY
END:VALARM
END:VEVENT
END:VCALENDAR