BEGIN:VCALENDAR
VERSION:2.0
CALSCALE:GREGORIAN
BEGIN:VEVENT
URL:https://www.learndesk.us/class/5541711906340864/lesson/38121e7af4c7f9f89147e6e096bb92ab?ref=outlook-calendar
SUMMARY:Date Picker
DTSTART;TZID=America/Los_Angeles:20260425T190000
DTEND;TZID=America/Los_Angeles:20260425T200000
LOCATION:https://www.learndesk.us/class/5541711906340864/lesson/38121e7af4c7f9f89147e6e096bb92ab?ref=outlook-calendar
DESCRIPTION: Date pickers use a dialog window to select a single date on mobile.

https://www.learndesk.us/class/5541711906340864/lesson/38121e7af4c7f9f89147e6e096bb92ab?ref=outlook-calendar
STATUS:CONFIRMED
SEQUENCE:3
BEGIN:VALARM
TRIGGER:-PT10M
DESCRIPTION:Class Reminder
ACTION:DISPLAY
END:VALARM
END:VEVENT
END:VCALENDAR