BEGIN:VCALENDAR
VERSION:2.0
CALSCALE:GREGORIAN
BEGIN:VEVENT
URL:https://www.learndesk.us/class/5541711906340864/lesson/370b6ad409f39228cbdfbbb2ac227afa?ref=outlook-calendar
SUMMARY:CupertinoNavigationBar
DTSTART;TZID=America/Los_Angeles:20260425T190000
DTEND;TZID=America/Los_Angeles:20260425T200000
LOCATION:https://www.learndesk.us/class/5541711906340864/lesson/370b6ad409f39228cbdfbbb2ac227afa?ref=outlook-calendar
DESCRIPTION: An iOS-style top navigation bar. Typically used with CupertinoPageScaffold.

https://www.learndesk.us/class/5541711906340864/lesson/370b6ad409f39228cbdfbbb2ac227afa?ref=outlook-calendar
STATUS:CONFIRMED
SEQUENCE:3
BEGIN:VALARM
TRIGGER:-PT10M
DESCRIPTION:Class Reminder
ACTION:DISPLAY
END:VALARM
END:VEVENT
END:VCALENDAR