BEGIN:VCALENDAR
VERSION:2.0
CALSCALE:GREGORIAN
BEGIN:VEVENT
URL:https://www.learndesk.us/class/5541711906340864/lesson/358d207afdfeb0529b16bc1f7a7659a3?ref=outlook-calendar
SUMMARY:Slider
DTSTART;TZID=America/Los_Angeles:20260425T190000
DTEND;TZID=America/Los_Angeles:20260425T200000
LOCATION:https://www.learndesk.us/class/5541711906340864/lesson/358d207afdfeb0529b16bc1f7a7659a3?ref=outlook-calendar
DESCRIPTION: Sliders let users select from a range of values by moving the slider thumb.

https://www.learndesk.us/class/5541711906340864/lesson/358d207afdfeb0529b16bc1f7a7659a3?ref=outlook-calendar
STATUS:CONFIRMED
SEQUENCE:3
BEGIN:VALARM
TRIGGER:-PT10M
DESCRIPTION:Class Reminder
ACTION:DISPLAY
END:VALARM
END:VEVENT
END:VCALENDAR