BEGIN:VCALENDAR
VERSION:2.0
CALSCALE:GREGORIAN
BEGIN:VEVENT
URL:https://www.learndesk.us/class/5541711906340864/lesson/346a83d5740917ff6ba58e9cbf664d07?ref=outlook-calendar
SUMMARY:Change App Display Name
DTSTART;TZID=America/Los_Angeles:20260425T190000
DTEND;TZID=America/Los_Angeles:20260425T200000
LOCATION:https://www.learndesk.us/class/5541711906340864/lesson/346a83d5740917ff6ba58e9cbf664d07?ref=outlook-calendar
DESCRIPTION: Learn how to change your apps display name.

https://www.learndesk.us/class/5541711906340864/lesson/346a83d5740917ff6ba58e9cbf664d07?ref=outlook-calendar
STATUS:CONFIRMED
SEQUENCE:3
BEGIN:VALARM
TRIGGER:-PT10M
DESCRIPTION:Class Reminder
ACTION:DISPLAY
END:VALARM
END:VEVENT
END:VCALENDAR