BEGIN:VCALENDAR
VERSION:2.0
CALSCALE:GREGORIAN
BEGIN:VEVENT
URL:https://www.learndesk.us/class/5541711906340864/lesson/332c7eafb381c37953c80797a54df455?ref=outlook-calendar
SUMMARY:ListView and ListTile
DTSTART;TZID=America/Los_Angeles:20260425T190000
DTEND;TZID=America/Los_Angeles:20260425T200000
LOCATION:https://www.learndesk.us/class/5541711906340864/lesson/332c7eafb381c37953c80797a54df455?ref=outlook-calendar
DESCRIPTION: A single fixed-height row that typically contains some text as well as a leading or trailing icon.

https://www.learndesk.us/class/5541711906340864/lesson/332c7eafb381c37953c80797a54df455?ref=outlook-calendar
STATUS:CONFIRMED
SEQUENCE:3
BEGIN:VALARM
TRIGGER:-PT10M
DESCRIPTION:Class Reminder
ACTION:DISPLAY
END:VALARM
END:VEVENT
END:VCALENDAR