BEGIN:VCALENDAR
VERSION:2.0
CALSCALE:GREGORIAN
BEGIN:VEVENT
URL:https://www.learndesk.us/class/5541711906340864/lesson/2373e76777f4e6292e3add392228d77d?ref=outlook-calendar
SUMMARY:Build and Release For iOS
DTSTART;TZID=America/Los_Angeles:20260425T190000
DTEND;TZID=America/Los_Angeles:20260425T200000
LOCATION:https://www.learndesk.us/class/5541711906340864/lesson/2373e76777f4e6292e3add392228d77d?ref=outlook-calendar
DESCRIPTION: Learn to build and release for iOS platforms.

https://www.learndesk.us/class/5541711906340864/lesson/2373e76777f4e6292e3add392228d77d?ref=outlook-calendar
STATUS:CONFIRMED
SEQUENCE:3
BEGIN:VALARM
TRIGGER:-PT10M
DESCRIPTION:Class Reminder
ACTION:DISPLAY
END:VALARM
END:VEVENT
END:VCALENDAR