BEGIN:VCALENDAR
VERSION:2.0
CALSCALE:GREGORIAN
BEGIN:VEVENT
URL:https://www.learndesk.us/class/5541711906340864/lesson/2076a8e1678eb3d3869acd2618010096?ref=outlook-calendar
SUMMARY:Vertical Drag
DTSTART;TZID=America/Los_Angeles:20260425T190000
DTEND;TZID=America/Los_Angeles:20260425T200000
LOCATION:https://www.learndesk.us/class/5541711906340864/lesson/2076a8e1678eb3d3869acd2618010096?ref=outlook-calendar
DESCRIPTION: Vertical drag

onVerticalDragStart A pointer has contacted the screen and might begin to move vertically.

onVerticalDragUpdate A pointer that is in contact with the screen and moving vertically has moved in the vertical direction.

onVerticalDragEnd A pointer that was previously in contact with the screen and moving vertically is no longer in contact with the screen and was moving at a specific velocity when it stopped contacting the screen.

https://www.learndesk.us/class/5541711906340864/lesson/2076a8e1678eb3d3869acd2618010096?ref=outlook-calendar
STATUS:CONFIRMED
SEQUENCE:3
BEGIN:VALARM
TRIGGER:-PT10M
DESCRIPTION:Class Reminder
ACTION:DISPLAY
END:VALARM
END:VEVENT
END:VCALENDAR