BEGIN:VCALENDAR
VERSION:2.0
CALSCALE:GREGORIAN
BEGIN:VEVENT
URL:https://www.learndesk.us/class/5541711906340864/lesson/1f1a8ce1900a58d710b255181f18d2d7?ref=outlook-calendar
SUMMARY:Cupertino Setup
DTSTART;TZID=America/Los_Angeles:20260425T190000
DTEND;TZID=America/Los_Angeles:20260425T200000
LOCATION:https://www.learndesk.us/class/5541711906340864/lesson/1f1a8ce1900a58d710b255181f18d2d7?ref=outlook-calendar
DESCRIPTION: Lets setup our project so it can support for Cupertino widgets and components.

https://www.learndesk.us/class/5541711906340864/lesson/1f1a8ce1900a58d710b255181f18d2d7?ref=outlook-calendar
STATUS:CONFIRMED
SEQUENCE:3
BEGIN:VALARM
TRIGGER:-PT10M
DESCRIPTION:Class Reminder
ACTION:DISPLAY
END:VALARM
END:VEVENT
END:VCALENDAR