BEGIN:VCALENDAR
VERSION:2.0
CALSCALE:GREGORIAN
BEGIN:VEVENT
URL:https://www.learndesk.us/class/5541711906340864/lesson/1ed24ae538110bd459041fd8976a1818?ref=outlook-calendar
SUMMARY:Aspect Ratio
DTSTART;TZID=America/Los_Angeles:20260425T190000
DTEND;TZID=America/Los_Angeles:20260425T200000
LOCATION:https://www.learndesk.us/class/5541711906340864/lesson/1ed24ae538110bd459041fd8976a1818?ref=outlook-calendar
DESCRIPTION: A widget that attempts to size the child to a specific aspect ratio.

https://www.learndesk.us/class/5541711906340864/lesson/1ed24ae538110bd459041fd8976a1818?ref=outlook-calendar
STATUS:CONFIRMED
SEQUENCE:3
BEGIN:VALARM
TRIGGER:-PT10M
DESCRIPTION:Class Reminder
ACTION:DISPLAY
END:VALARM
END:VEVENT
END:VCALENDAR