BEGIN:VCALENDAR
VERSION:2.0
CALSCALE:GREGORIAN
BEGIN:VEVENT
URL:https://www.learndesk.us/class/5541711906340864/lesson/1e443932ae9ef2db060aa06748ad9a2a?ref=outlook-calendar
SUMMARY:DataTable
DTSTART;TZID=America/Los_Angeles:20260425T190000
DTEND;TZID=America/Los_Angeles:20260425T200000
LOCATION:https://www.learndesk.us/class/5541711906340864/lesson/1e443932ae9ef2db060aa06748ad9a2a?ref=outlook-calendar
DESCRIPTION: Data tables display sets of raw data. They usually appear in desktop enterprise products. The DataTable widget implements this component.

https://www.learndesk.us/class/5541711906340864/lesson/1e443932ae9ef2db060aa06748ad9a2a?ref=outlook-calendar
STATUS:CONFIRMED
SEQUENCE:3
BEGIN:VALARM
TRIGGER:-PT10M
DESCRIPTION:Class Reminder
ACTION:DISPLAY
END:VALARM
END:VEVENT
END:VCALENDAR