BEGIN:VCALENDAR
VERSION:2.0
CALSCALE:GREGORIAN
BEGIN:VEVENT
URL:https://www.learndesk.us/class/5541711906340864/lesson/1d0608b8e3cc95cdc60b9d11070e6ddb?ref=outlook-calendar
SUMMARY:FlatButton
DTSTART;TZID=America/Los_Angeles:20260425T190000
DTEND;TZID=America/Los_Angeles:20260425T200000
LOCATION:https://www.learndesk.us/class/5541711906340864/lesson/1d0608b8e3cc95cdc60b9d11070e6ddb?ref=outlook-calendar
DESCRIPTION: A flat button is a section printed on a Material Components widget that reacts to touches by filling with color.

https://www.learndesk.us/class/5541711906340864/lesson/1d0608b8e3cc95cdc60b9d11070e6ddb?ref=outlook-calendar
STATUS:CONFIRMED
SEQUENCE:3
BEGIN:VALARM
TRIGGER:-PT10M
DESCRIPTION:Class Reminder
ACTION:DISPLAY
END:VALARM
END:VEVENT
END:VCALENDAR