BEGIN:VCALENDAR
VERSION:2.0
CALSCALE:GREGORIAN
BEGIN:VEVENT
URL:https://www.learndesk.us/class/5541711906340864/lesson/1b4a238bafac64f9ac0162e52bc1a1a0?ref=outlook-calendar
SUMMARY:Send Parameters To iOS Objective-C Code
DTSTART;TZID=America/Los_Angeles:20260425T190000
DTEND;TZID=America/Los_Angeles:20260425T200000
LOCATION:https://www.learndesk.us/class/5541711906340864/lesson/1b4a238bafac64f9ac0162e52bc1a1a0?ref=outlook-calendar
DESCRIPTION: Learn how to send values to Objective-C files.

https://www.learndesk.us/class/5541711906340864/lesson/1b4a238bafac64f9ac0162e52bc1a1a0?ref=outlook-calendar
STATUS:CONFIRMED
SEQUENCE:3
BEGIN:VALARM
TRIGGER:-PT10M
DESCRIPTION:Class Reminder
ACTION:DISPLAY
END:VALARM
END:VEVENT
END:VCALENDAR