BEGIN:VCALENDAR
VERSION:2.0
CALSCALE:GREGORIAN
BEGIN:VEVENT
URL:https://www.learndesk.us/class/5541711906340864/lesson/1acf68df520dcbf440ca668057bf9901?ref=outlook-calendar
SUMMARY:Tap
DTSTART;TZID=America/Los_Angeles:20260425T190000
DTEND;TZID=America/Los_Angeles:20260425T200000
LOCATION:https://www.learndesk.us/class/5541711906340864/lesson/1acf68df520dcbf440ca668057bf9901?ref=outlook-calendar
DESCRIPTION: Tap

onTapDown A pointer that might cause a tap has contacted the screen at a particular location.

onTapUp A pointer that will trigger a tap has stopped contacting the screen at a particular location.

onTap A tap has occurred.

onTapCancel The pointer that previously triggered the onTapDown will not end up causing a tap.

https://www.learndesk.us/class/5541711906340864/lesson/1acf68df520dcbf440ca668057bf9901?ref=outlook-calendar
STATUS:CONFIRMED
SEQUENCE:3
BEGIN:VALARM
TRIGGER:-PT10M
DESCRIPTION:Class Reminder
ACTION:DISPLAY
END:VALARM
END:VEVENT
END:VCALENDAR