BEGIN:VCALENDAR
VERSION:2.0
CALSCALE:GREGORIAN
BEGIN:VEVENT
URL:https://www.learndesk.us/class/5541711906340864/lesson/19cc10d8010a504ae422f474f1ea3e97?ref=outlook-calendar
SUMMARY:Changing iOS App Icon
DTSTART;TZID=America/Los_Angeles:20260425T190000
DTEND;TZID=America/Los_Angeles:20260425T200000
LOCATION:https://www.learndesk.us/class/5541711906340864/lesson/19cc10d8010a504ae422f474f1ea3e97?ref=outlook-calendar
DESCRIPTION: Learn how to change the app icon for the iOS part of your project.

https://www.learndesk.us/class/5541711906340864/lesson/19cc10d8010a504ae422f474f1ea3e97?ref=outlook-calendar
STATUS:CONFIRMED
SEQUENCE:3
BEGIN:VALARM
TRIGGER:-PT10M
DESCRIPTION:Class Reminder
ACTION:DISPLAY
END:VALARM
END:VEVENT
END:VCALENDAR