BEGIN:VCALENDAR
VERSION:2.0
CALSCALE:GREGORIAN
BEGIN:VEVENT
URL:https://www.learndesk.us/class/5541711906340864/lesson/191c6a8f9d6ef10c01de4bdcccc73db2?ref=outlook-calendar
SUMMARY:Packing Widgets
DTSTART;TZID=America/Los_Angeles:20260425T190000
DTEND;TZID=America/Los_Angeles:20260425T200000
LOCATION:https://www.learndesk.us/class/5541711906340864/lesson/191c6a8f9d6ef10c01de4bdcccc73db2?ref=outlook-calendar
DESCRIPTION: By default, a row or column occupies as much space along its main axis as possible, but if you want to pack the children closely together, set its mainAxisSize to MainAxisSize.min. The following example uses this property to pack the star icons together.

https://www.learndesk.us/class/5541711906340864/lesson/191c6a8f9d6ef10c01de4bdcccc73db2?ref=outlook-calendar
STATUS:CONFIRMED
SEQUENCE:3
BEGIN:VALARM
TRIGGER:-PT10M
DESCRIPTION:Class Reminder
ACTION:DISPLAY
END:VALARM
END:VEVENT
END:VCALENDAR