BEGIN:VCALENDAR
VERSION:2.0
CALSCALE:GREGORIAN
BEGIN:VEVENT
URL:https://www.learndesk.us/class/5534154219323392/lesson/c4882b50a6f8e643c2801b2a55e346c0?ref=outlook-calendar
SUMMARY:Trouble shooting of IT issue
DTSTART;TZID=America/Los_Angeles:20260421T190000
DTEND;TZID=America/Los_Angeles:20260421T200000
LOCATION:https://www.learndesk.us/class/5534154219323392/lesson/c4882b50a6f8e643c2801b2a55e346c0?ref=outlook-calendar
DESCRIPTION: https://www.learndesk.us/class/5534154219323392/lesson/c4882b50a6f8e643c2801b2a55e346c0?ref=outlook-calendar
STATUS:CONFIRMED
SEQUENCE:3
BEGIN:VALARM
TRIGGER:-PT10M
DESCRIPTION:Class Reminder
ACTION:DISPLAY
END:VALARM
END:VEVENT
END:VCALENDAR