BEGIN:VCALENDAR
VERSION:2.0
CALSCALE:GREGORIAN
BEGIN:VEVENT
URL:https://www.learndesk.us/class/5532774293307392/lesson/eca48b843c68545aaf8f25a238d4c972?ref=outlook-calendar
SUMMARY:Lesson #5: Ishvara Pranindhana Part 2
DTSTART;TZID=America/Los_Angeles:20260422T190000
DTEND;TZID=America/Los_Angeles:20260422T200000
LOCATION:https://www.learndesk.us/class/5532774293307392/lesson/eca48b843c68545aaf8f25a238d4c972?ref=outlook-calendar
DESCRIPTION: Niyama #5 surrender / Ishvara Pranidhana
This is Yoga's tenth ethical guideline and the fifth Niyama known as Ishvara Pranidhana or surrender.

https://www.learndesk.us/class/5532774293307392/lesson/eca48b843c68545aaf8f25a238d4c972?ref=outlook-calendar
STATUS:CONFIRMED
SEQUENCE:3
BEGIN:VALARM
TRIGGER:-PT10M
DESCRIPTION:Class Reminder
ACTION:DISPLAY
END:VALARM
END:VEVENT
END:VCALENDAR