BEGIN:VCALENDAR
VERSION:2.0
CALSCALE:GREGORIAN
BEGIN:VEVENT
URL:https://www.learndesk.us/class/5532774293307392/lesson/b5b044f5b5fc06a9c50aa1da51067761?ref=outlook-calendar
SUMMARY:Week 7: Explore the External Limbs - Niyamas
DTSTART;TZID=America/Los_Angeles:20260420T190000
DTEND;TZID=America/Los_Angeles:20260420T200000
LOCATION:https://www.learndesk.us/class/5532774293307392/lesson/b5b044f5b5fc06a9c50aa1da51067761?ref=outlook-calendar
DESCRIPTION: https://www.learndesk.us/class/5532774293307392/lesson/b5b044f5b5fc06a9c50aa1da51067761?ref=outlook-calendar
STATUS:CONFIRMED
SEQUENCE:3
BEGIN:VALARM
TRIGGER:-PT10M
DESCRIPTION:Class Reminder
ACTION:DISPLAY
END:VALARM
END:VEVENT
END:VCALENDAR