BEGIN:VCALENDAR
VERSION:2.0
CALSCALE:GREGORIAN
BEGIN:VEVENT
URL:https://www.learndesk.us/class/5532774293307392/lesson/74c98fb7a51c3058dc9ed9902f9e75dc?ref=outlook-calendar
SUMMARY:Lesson #4: The Niyamas - Saucha
DTSTART;TZID=America/Los_Angeles:20260422T190000
DTEND;TZID=America/Los_Angeles:20260422T200000
LOCATION:https://www.learndesk.us/class/5532774293307392/lesson/74c98fb7a51c3058dc9ed9902f9e75dc?ref=outlook-calendar
DESCRIPTION: Saucha (purity)

https://www.learndesk.us/class/5532774293307392/lesson/74c98fb7a51c3058dc9ed9902f9e75dc?ref=outlook-calendar
STATUS:CONFIRMED
SEQUENCE:3
BEGIN:VALARM
TRIGGER:-PT10M
DESCRIPTION:Class Reminder
ACTION:DISPLAY
END:VALARM
END:VEVENT
END:VCALENDAR