BEGIN:VCALENDAR
VERSION:2.0
CALSCALE:GREGORIAN
BEGIN:VEVENT
URL:https://www.learndesk.us/class/5532774293307392/lesson/2426c0f98c31832f59c6733cf7442416?ref=outlook-calendar
SUMMARY:Lesson #6: Optional Yoga Classes - Part 1
DTSTART;TZID=America/Los_Angeles:20260422T190000
DTEND;TZID=America/Los_Angeles:20260422T200000
LOCATION:https://www.learndesk.us/class/5532774293307392/lesson/2426c0f98c31832f59c6733cf7442416?ref=outlook-calendar
DESCRIPTION: Yoga class - Vinyasa flow #23

https://www.learndesk.us/class/5532774293307392/lesson/2426c0f98c31832f59c6733cf7442416?ref=outlook-calendar
STATUS:CONFIRMED
SEQUENCE:3
BEGIN:VALARM
TRIGGER:-PT10M
DESCRIPTION:Class Reminder
ACTION:DISPLAY
END:VALARM
END:VEVENT
END:VCALENDAR