BEGIN:VCALENDAR
VERSION:2.0
CALSCALE:GREGORIAN
BEGIN:VEVENT
URL:https://www.learndesk.us/class/5532774293307392/reignite-your-career-with-yoga-week-5-8?ref=outlook-calendar
SUMMARY:Reignite Your Career With Yoga (Week 5-8)
DTSTART;TZID=America/Los_Angeles:20260420T190000
DTEND;TZID=America/Los_Angeles:20260420T200000
LOCATION:https://www.learndesk.us/class/5532774293307392/reignite-your-career-with-yoga-week-5-8?ref=outlook-calendar
DESCRIPTION: Introducing reignite your career with yoga.

Imagine, waking up energized each morning actually excited about going to work? 
Imagine feeling confident, inspired, full of innovative ideas, loads of clarity, and at the same time, a sense of calm, Inner Knowing? 
Your career is on track, and you&rsquo;re being offered promotions and new opportunities? 

This doesn't have to be a dream. It's totally possible for you. To reignite your career with yoga.
I'm giving you time-honored tools and practices from ancient yoga philosophy so that you can create a more fulfilled career, and life, for yourself.
Topics:

Introduction to the eightfold path of yoga.
Exploring the Yamas Niyamas how to Apply them in your life:

As foundational to all yogic thought, these 10 guidelines can help direct us to live a happier, more drama-free, fulfilled, and joyful life.
The Yamas Niyamas are so key that we take 4 weeks to cover all 10.
The 5 Yamas ask us to explore our relationship with the world.
The 5...

https://www.learndesk.us/class/5532774293307392/reignite-your-career-with-yoga-week-5-8?ref=outlook-calendar
STATUS:CONFIRMED
SEQUENCE:3
BEGIN:VALARM
TRIGGER:-PT10M
DESCRIPTION:Class Reminder
ACTION:DISPLAY
END:VALARM
END:VEVENT
END:VCALENDAR