BEGIN:VCALENDAR
VERSION:2.0
CALSCALE:GREGORIAN
BEGIN:VEVENT
URL:https://www.learndesk.us/class/5524046001209344/lesson/d4fdc11556443f58ab5d8d5b0e65a0e4?ref=outlook-calendar
SUMMARY:1.2.1 - Introduction to Propositional Logic and Translating English Sentences
DTSTART;TZID=America/Los_Angeles:20260426T190000
DTEND;TZID=America/Los_Angeles:20260426T200000
LOCATION:https://www.learndesk.us/class/5524046001209344/lesson/d4fdc11556443f58ab5d8d5b0e65a0e4?ref=outlook-calendar
DESCRIPTION: https://www.learndesk.us/class/5524046001209344/lesson/d4fdc11556443f58ab5d8d5b0e65a0e4?ref=outlook-calendar
STATUS:CONFIRMED
SEQUENCE:3
BEGIN:VALARM
TRIGGER:-PT10M
DESCRIPTION:Class Reminder
ACTION:DISPLAY
END:VALARM
END:VEVENT
END:VCALENDAR