BEGIN:VCALENDAR
VERSION:2.0
CALSCALE:GREGORIAN
BEGIN:VEVENT
URL:https://www.learndesk.us/class/5524046001209344/lesson/9408a2aa3b2340b4220627c7b67cc43a?ref=outlook-calendar
SUMMARY:3.2.3 Big O for some Important Functions
DTSTART;TZID=America/Los_Angeles:20260422T190000
DTEND;TZID=America/Los_Angeles:20260422T200000
LOCATION:https://www.learndesk.us/class/5524046001209344/lesson/9408a2aa3b2340b4220627c7b67cc43a?ref=outlook-calendar
DESCRIPTION: https://www.learndesk.us/class/5524046001209344/lesson/9408a2aa3b2340b4220627c7b67cc43a?ref=outlook-calendar
STATUS:CONFIRMED
SEQUENCE:3
BEGIN:VALARM
TRIGGER:-PT10M
DESCRIPTION:Class Reminder
ACTION:DISPLAY
END:VALARM
END:VEVENT
END:VCALENDAR