BEGIN:VCALENDAR
VERSION:2.0
CALSCALE:GREGORIAN
BEGIN:VEVENT
URL:https://www.learndesk.us/class/5524046001209344/lesson/477d71bb670d819dbd146f7ef6eef19f?ref=outlook-calendar
SUMMARY:1.1.3.2 - Converse, Contrapositive, Inverse and Biconditional Statements
DTSTART;TZID=America/Los_Angeles:20260424T190000
DTEND;TZID=America/Los_Angeles:20260424T200000
LOCATION:https://www.learndesk.us/class/5524046001209344/lesson/477d71bb670d819dbd146f7ef6eef19f?ref=outlook-calendar
DESCRIPTION: https://www.learndesk.us/class/5524046001209344/lesson/477d71bb670d819dbd146f7ef6eef19f?ref=outlook-calendar
STATUS:CONFIRMED
SEQUENCE:3
BEGIN:VALARM
TRIGGER:-PT10M
DESCRIPTION:Class Reminder
ACTION:DISPLAY
END:VALARM
END:VEVENT
END:VCALENDAR