BEGIN:VCALENDAR
VERSION:2.0
CALSCALE:GREGORIAN
BEGIN:VEVENT
URL:https://www.learndesk.us/class/5524046001209344/lesson/1b1ebb2b345b0111d9c9364b81f4becf?ref=outlook-calendar
SUMMARY:1.4.2 - Definition and Application of Quantifiers
DTSTART;TZID=America/Los_Angeles:20260422T190000
DTEND;TZID=America/Los_Angeles:20260422T200000
LOCATION:https://www.learndesk.us/class/5524046001209344/lesson/1b1ebb2b345b0111d9c9364b81f4becf?ref=outlook-calendar
DESCRIPTION: https://www.learndesk.us/class/5524046001209344/lesson/1b1ebb2b345b0111d9c9364b81f4becf?ref=outlook-calendar
STATUS:CONFIRMED
SEQUENCE:3
BEGIN:VALARM
TRIGGER:-PT10M
DESCRIPTION:Class Reminder
ACTION:DISPLAY
END:VALARM
END:VEVENT
END:VCALENDAR