BEGIN:VCALENDAR
VERSION:2.0
CALSCALE:GREGORIAN
BEGIN:VEVENT
URL:https://www.learndesk.us/class/5519068020867072/lesson/9b67815a699ee6f25d552dc20ab1f2b6?ref=outlook-calendar
SUMMARY:Introduction Personal Tasks
DTSTART;TZID=America/Los_Angeles:20260420T190000
DTEND;TZID=America/Los_Angeles:20260420T200000
LOCATION:https://www.learndesk.us/class/5519068020867072/lesson/9b67815a699ee6f25d552dc20ab1f2b6?ref=outlook-calendar
DESCRIPTION: https://www.learndesk.us/class/5519068020867072/lesson/9b67815a699ee6f25d552dc20ab1f2b6?ref=outlook-calendar
STATUS:CONFIRMED
SEQUENCE:3
BEGIN:VALARM
TRIGGER:-PT10M
DESCRIPTION:Class Reminder
ACTION:DISPLAY
END:VALARM
END:VEVENT
END:VCALENDAR