BEGIN:VCALENDAR
VERSION:2.0
CALSCALE:GREGORIAN
BEGIN:VEVENT
URL:https://www.learndesk.us/class/5510721670479872/lesson/fce99ab95d712320441f3a09b74006b0?ref=outlook-calendar
SUMMARY:Lecture 5: Vertica Software Installation
DTSTART;TZID=America/Los_Angeles:20260420T190000
DTEND;TZID=America/Los_Angeles:20260420T200000
LOCATION:https://www.learndesk.us/class/5510721670479872/lesson/fce99ab95d712320441f3a09b74006b0?ref=outlook-calendar
DESCRIPTION: 
Registration and download process of Vertica database and management console community edition software
Single node Vertica database 9.2.1 database cluster installation and configuration in CentOS


https://www.learndesk.us/class/5510721670479872/lesson/fce99ab95d712320441f3a09b74006b0?ref=outlook-calendar
STATUS:CONFIRMED
SEQUENCE:3
BEGIN:VALARM
TRIGGER:-PT10M
DESCRIPTION:Class Reminder
ACTION:DISPLAY
END:VALARM
END:VEVENT
END:VCALENDAR