BEGIN:VCALENDAR
VERSION:2.0
CALSCALE:GREGORIAN
BEGIN:VEVENT
URL:https://www.learndesk.us/class/5510721670479872/lesson/fbd4d7ef8f646c7102e3e6991427f5b0?ref=outlook-calendar
SUMMARY:Section 5: Vertica Management Console Installation and Configuration
DTSTART;TZID=America/Los_Angeles:20260420T190000
DTEND;TZID=America/Los_Angeles:20260420T200000
LOCATION:https://www.learndesk.us/class/5510721670479872/lesson/fbd4d7ef8f646c7102e3e6991427f5b0?ref=outlook-calendar
DESCRIPTION: https://www.learndesk.us/class/5510721670479872/lesson/fbd4d7ef8f646c7102e3e6991427f5b0?ref=outlook-calendar
STATUS:CONFIRMED
SEQUENCE:3
BEGIN:VALARM
TRIGGER:-PT10M
DESCRIPTION:Class Reminder
ACTION:DISPLAY
END:VALARM
END:VEVENT
END:VCALENDAR