BEGIN:VCALENDAR
VERSION:2.0
CALSCALE:GREGORIAN
BEGIN:VEVENT
URL:https://www.learndesk.us/class/5510721670479872/lesson/d2f04599d33b07459bc8be12551567e8?ref=outlook-calendar
SUMMARY:Lecture 10: Vertica Management Console Configuration
DTSTART;TZID=America/Los_Angeles:20260420T190000
DTEND;TZID=America/Los_Angeles:20260420T200000
LOCATION:https://www.learndesk.us/class/5510721670479872/lesson/d2f04599d33b07459bc8be12551567e8?ref=outlook-calendar
DESCRIPTION: 

HTTP port setting change in Firewall for Management Console UI access from host operating system
Vertica Management Console detail navigation



https://www.learndesk.us/class/5510721670479872/lesson/d2f04599d33b07459bc8be12551567e8?ref=outlook-calendar
STATUS:CONFIRMED
SEQUENCE:3
BEGIN:VALARM
TRIGGER:-PT10M
DESCRIPTION:Class Reminder
ACTION:DISPLAY
END:VALARM
END:VEVENT
END:VCALENDAR