BEGIN:VCALENDAR
VERSION:2.0
CALSCALE:GREGORIAN
BEGIN:VEVENT
URL:https://www.learndesk.us/class/5510721670479872/lesson/949456018c88a6f6a5125a921a06612b?ref=outlook-calendar
SUMMARY:Assignment 4: Vertica Management Console Assignment
DTSTART;TZID=America/Los_Angeles:20260420T190000
DTEND;TZID=America/Los_Angeles:20260420T200000
LOCATION:https://www.learndesk.us/class/5510721670479872/lesson/949456018c88a6f6a5125a921a06612b?ref=outlook-calendar
DESCRIPTION: This assignment will ensure Vertica Management Console is up and running and all hands-on completed by students.

https://www.learndesk.us/class/5510721670479872/lesson/949456018c88a6f6a5125a921a06612b?ref=outlook-calendar
STATUS:CONFIRMED
SEQUENCE:3
BEGIN:VALARM
TRIGGER:-PT10M
DESCRIPTION:Class Reminder
ACTION:DISPLAY
END:VALARM
END:VEVENT
END:VCALENDAR