BEGIN:VCALENDAR
VERSION:2.0
CALSCALE:GREGORIAN
BEGIN:VEVENT
URL:https://www.learndesk.us/class/5510721670479872/lesson/8bb259a97fb6cf8c178cc4fc5f035d20?ref=outlook-calendar
SUMMARY:Quiz 2: Vertica Installation Knowledge Check
DTSTART;TZID=America/Los_Angeles:20260420T190000
DTEND;TZID=America/Los_Angeles:20260420T200000
LOCATION:https://www.learndesk.us/class/5510721670479872/lesson/8bb259a97fb6cf8c178cc4fc5f035d20?ref=outlook-calendar
DESCRIPTION: https://www.learndesk.us/class/5510721670479872/lesson/8bb259a97fb6cf8c178cc4fc5f035d20?ref=outlook-calendar
STATUS:CONFIRMED
SEQUENCE:3
BEGIN:VALARM
TRIGGER:-PT10M
DESCRIPTION:Class Reminder
ACTION:DISPLAY
END:VALARM
END:VEVENT
END:VCALENDAR