BEGIN:VCALENDAR
VERSION:2.0
CALSCALE:GREGORIAN
BEGIN:VEVENT
URL:https://www.learndesk.us/class/5510721670479872/lesson/84b2396cc776d11d7e597214a40bddf6?ref=outlook-calendar
SUMMARY:Assignment 3: Vertica SQL Command Assignment
DTSTART;TZID=America/Los_Angeles:20260420T190000
DTEND;TZID=America/Los_Angeles:20260420T200000
LOCATION:https://www.learndesk.us/class/5510721670479872/lesson/84b2396cc776d11d7e597214a40bddf6?ref=outlook-calendar
DESCRIPTION: This assignment will ensure Vertica SQL command exercises are completed by students.

https://www.learndesk.us/class/5510721670479872/lesson/84b2396cc776d11d7e597214a40bddf6?ref=outlook-calendar
STATUS:CONFIRMED
SEQUENCE:3
BEGIN:VALARM
TRIGGER:-PT10M
DESCRIPTION:Class Reminder
ACTION:DISPLAY
END:VALARM
END:VEVENT
END:VCALENDAR